BEGIN:VCALENDAR
VERSION:2.0
PRODID:-//Chandler Compadres - ECPv6.15.20//NONSGML v1.0//EN
CALSCALE:GREGORIAN
METHOD:PUBLISH
X-WR-CALNAME:Chandler Compadres
X-ORIGINAL-URL:https://chandlercompadres.org
X-WR-CALDESC:Events for Chandler Compadres
REFRESH-INTERVAL;VALUE=DURATION:PT1H
X-Robots-Tag:noindex
X-PUBLISHED-TTL:PT1H
BEGIN:VTIMEZONE
TZID:UTC
BEGIN:STANDARD
TZOFFSETFROM:+0000
TZOFFSETTO:+0000
TZNAME:UTC
DTSTART:20160101T000000
END:STANDARD
END:VTIMEZONE
BEGIN:VEVENT
DTSTART;TZID=UTC:20171111T180000
DTEND;TZID=UTC:20171111T233000
DTSTAMP:20260425T034644
CREATED:20170621T010817Z
LAST-MODIFIED:20220609T155203Z
UID:882-1510423200-1510443000@chandlercompadres.org
SUMMARY:Rock the Cause for Kids 2017 - Party Like a Rock Star!
DESCRIPTION:Better than a backstage pass\, the 2017 Rock the Cause for Kids music-\ninspired event is your chance to Party Like a Rock Star. Got Moves Like Jagger? Feeling some Nirvana Teen Spirit? Ready to Vogue and strike a pose as your favorite music star? Live the dream! Mark your calendars and get ready to #RockTheCause2017 – with all proceeds benefitting kids in the East Valley. Rock on!
URL:https://chandlercompadres.org/event/rock-the-cause-for-kids-2017-party-like-a-rock-star
ATTACH;FMTTYPE=image/jpeg:https://chandlercompadres.org/wp-content/uploads/2022/04/261.jpg
ORGANIZER;CN="Chandler Compadres":MAILTO:events@chandlercompadres.org
END:VEVENT
BEGIN:VEVENT
DTSTART;TZID=UTC:20170809T080000
DTEND;TZID=UTC:20170812T170000
DTSTAMP:20260425T034644
CREATED:20170629T002401Z
LAST-MODIFIED:20220609T155042Z
UID:970-1502265600-1502557200@chandlercompadres.org
SUMMARY:Compadre Trail Ride - Fundraising Year Start
DESCRIPTION:The Chandler Compadres travel north to kick off the year towards raising funds for our charities.
URL:https://chandlercompadres.org/event/compadre-trail-ride-fundraising-year-start
ATTACH;FMTTYPE=image/jpeg:https://chandlercompadres.org/wp-content/uploads/2022/04/129.jpg
ORGANIZER;CN="Chandler Compadres":MAILTO:events@chandlercompadres.org
END:VEVENT
BEGIN:VEVENT
DTSTART;TZID=UTC:20170628T150000
DTEND;TZID=UTC:20170628T170000
DTSTAMP:20260425T034644
CREATED:20170629T001910Z
LAST-MODIFIED:20220609T154942Z
UID:966-1498662000-1498669200@chandlercompadres.org
SUMMARY:Compadres Give Day
DESCRIPTION:The Chandler Compadres will present donation proceeds to it’s beneficiaries from the 2016/17 fundraising year. \n#compadresgive
URL:https://chandlercompadres.org/event/chandler-give-day
ATTACH;FMTTYPE=image/jpeg:https://chandlercompadres.org/wp-content/uploads/2022/03/Type-of-events.jpg
ORGANIZER;CN="Chandler Compadres":MAILTO:events@chandlercompadres.org
END:VEVENT
END:VCALENDAR