BEGIN:VCALENDAR
VERSION:2.0
PRODID:-//Chandler Compadres - ECPv6.15.20//NONSGML v1.0//EN
CALSCALE:GREGORIAN
METHOD:PUBLISH
X-ORIGINAL-URL:https://chandlercompadres.org
X-WR-CALDESC:Events for Chandler Compadres
REFRESH-INTERVAL;VALUE=DURATION:PT1H
X-Robots-Tag:noindex
X-PUBLISHED-TTL:PT1H
BEGIN:VTIMEZONE
TZID:UTC
BEGIN:STANDARD
TZOFFSETFROM:+0000
TZOFFSETTO:+0000
TZNAME:UTC
DTSTART:20170101T000000
END:STANDARD
END:VTIMEZONE
BEGIN:VTIMEZONE
TZID:America/Phoenix
BEGIN:STANDARD
TZOFFSETFROM:-0700
TZOFFSETTO:-0700
TZNAME:MST
DTSTART:20180101T000000
END:STANDARD
END:VTIMEZONE
BEGIN:VTIMEZONE
TZID:Africa/Abidjan
BEGIN:STANDARD
TZOFFSETFROM:+0000
TZOFFSETTO:+0000
TZNAME:GMT
DTSTART:20230101T000000
END:STANDARD
END:VTIMEZONE
BEGIN:VEVENT
DTSTART;VALUE=DATE:20180214
DTEND;VALUE=DATE:20180215
DTSTAMP:20260425T034742
CREATED:20180117T041455Z
LAST-MODIFIED:20220609T161356Z
UID:3573-1518566400-1518652799@chandlercompadres.org
SUMMARY:HAPPY VALENTINE'S DAY
DESCRIPTION:
URL:https://chandlercompadres.org/event/happy-valentines-day
ATTACH;FMTTYPE=image/jpeg:https://chandlercompadres.org/wp-content/uploads/2022/04/414.jpg
END:VEVENT
BEGIN:VEVENT
DTSTART;VALUE=DATE:20180415
DTEND;VALUE=DATE:20180416
DTSTAMP:20260425T034742
CREATED:20180117T041021Z
LAST-MODIFIED:20220609T155544Z
UID:3572-1523750400-1523836799@chandlercompadres.org
SUMMARY:QCO TAX CREDITS DUE
DESCRIPTION:Today at Midnight is the last day to get your 2017 Arizona State Qualified Charitable Tax Credit Submitted. Click the link below to DONATE!
URL:https://chandlercompadres.org/event/qco-tax-credits-due
ATTACH;FMTTYPE=image/jpeg:https://chandlercompadres.org/wp-content/uploads/2022/04/136.jpg
ORGANIZER;CN="Chandler Compadres":MAILTO:events@chandlercompadres.org
END:VEVENT
BEGIN:VEVENT
DTSTART;VALUE=DATE:20180420
DTEND;VALUE=DATE:20180421
DTSTAMP:20260425T034742
CREATED:20170805T011618Z
LAST-MODIFIED:20220609T155640Z
UID:1187-1524182400-1524268799@chandlercompadres.org
SUMMARY:2018 CHANDLER COMPADRE GOLF CLASSIC
DESCRIPTION:Come join us at Talking Stick Resort for the Best Charity Golf Tournament in the East Valley. Golf\, Food\, Drinks and Fun! Most importantly support our efforts to raise money for local kid’s charities. Click the link below to Sponsor!
URL:https://chandlercompadres.org/event/compadre-golf-classic
ATTACH;FMTTYPE=image/jpeg:https://chandlercompadres.org/wp-content/uploads/2022/04/201.jpg
END:VEVENT
BEGIN:VEVENT
DTSTART;TZID=America/Phoenix:20190412T070000
DTEND;TZID=America/Phoenix:20190412T180000
DTSTAMP:20260425T034742
CREATED:20190114T231414Z
LAST-MODIFIED:20231219T072024Z
UID:4302-1555052400-1555092000@chandlercompadres.org
SUMMARY:2019 Chandler Compadres Golf Classic
DESCRIPTION:
URL:https://chandlercompadres.org/event/2019-chandler-compadres-golf-classic
ATTACH;FMTTYPE=image/jpeg:https://chandlercompadres.org/wp-content/uploads/2022/04/216.jpg
ORGANIZER;CN="Chandler Compadres":MAILTO:events@chandlercompadres.org
END:VEVENT
BEGIN:VEVENT
DTSTART;TZID=UTC:20221105T180000
DTEND;TZID=UTC:20221106T000000
DTSTAMP:20260425T034742
CREATED:20220815T224807Z
LAST-MODIFIED:20220815T225010Z
UID:13094-1667671200-1667692800@chandlercompadres.org
SUMMARY:Rock the Cause for Kids 2022 - 80's to the Future!
DESCRIPTION:
URL:https://chandlercompadres.org/event/rock-the-cause-for-kids-2022-80s-to-the-future
LOCATION:Rawhide Events Center\, 5700 W North Loop Rd\, Chandler\, AZ\, 85226\, United States
ORGANIZER;CN="Chandler Compadres":MAILTO:events@chandlercompadres.org
END:VEVENT
BEGIN:VEVENT
DTSTART;TZID=America/Phoenix:20231104T180000
DTEND;TZID=America/Phoenix:20231105T000000
DTSTAMP:20260425T034742
CREATED:20230909T211320Z
LAST-MODIFIED:20230909T211631Z
UID:15000-1699120800-1699142400@chandlercompadres.org
SUMMARY:Rock the Cause for Kids 2023 - Famous Music Festivals
DESCRIPTION:
URL:https://chandlercompadres.org/event/rock-the-cause-for-kids-2022-80s-to-the-future-2
END:VEVENT
BEGIN:VEVENT
DTSTART;VALUE=DATE:20240405
DTEND;VALUE=DATE:20240406
DTSTAMP:20260425T034742
CREATED:20210216T233953Z
LAST-MODIFIED:20240213T154420Z
UID:6476-1712275200-1712361599@chandlercompadres.org
SUMMARY:2024 Chandler Compadres Golf Classic
DESCRIPTION:
URL:https://chandlercompadres.org/event/https-chandlercompadres-org-golf
LOCATION:whirlwind golf club
ATTACH;FMTTYPE=image/jpeg:https://chandlercompadres.org/wp-content/uploads/2024/02/LPS8991-scaled.jpg
END:VEVENT
BEGIN:VEVENT
DTSTART;TZID=America/Phoenix:20250418T080000
DTEND;TZID=America/Phoenix:20250418T170000
DTSTAMP:20260425T034742
CREATED:20250127T175510Z
LAST-MODIFIED:20250207T143534Z
UID:17173-1744963200-1744995600@chandlercompadres.org
SUMMARY:2025 CHANDLER COMPADRES GOLF CLASSIC
DESCRIPTION:
URL:https://chandlercompadres.org/event/2025-chandler-compadres-golf-classic
END:VEVENT
BEGIN:VEVENT
DTSTART;TZID=America/Phoenix:20251115T180000
DTEND;TZID=America/Phoenix:20251115T180000
DTSTAMP:20260425T034742
CREATED:20250905T230214Z
LAST-MODIFIED:20250905T230912Z
UID:18086-1763229600-1763229600@chandlercompadres.org
SUMMARY:Rock the Cause for Kids 2025 - Mardi Gras - Let the Good Times Roll!
DESCRIPTION:CLICK ABOVE FOR MORE INFO
URL:https://chandlercompadres.org/event/mardi-gras
LOCATION:Rawhide Events Center\, 5700 W North Loop Rd\, Chandler\, AZ\, 85226\, United States
ATTACH;FMTTYPE=image/png:https://chandlercompadres.org/wp-content/uploads/2025/08/mard-gras-logo.png
ORGANIZER;CN="Chandler Compadres":MAILTO:events@chandlercompadres.org
END:VEVENT
BEGIN:VEVENT
DTSTART;TZID=America/Phoenix:20260403T080000
DTEND;TZID=America/Phoenix:20260403T170000
DTSTAMP:20260425T034742
CREATED:20260122T144236Z
LAST-MODIFIED:20260201T201213Z
UID:18565-1775203200-1775235600@chandlercompadres.org
SUMMARY:2026 CHANDLER COMPADRES GOLF CLASSIC
DESCRIPTION:
URL:https://chandlercompadres.org/event/2026-chandler-compadres-golf-classic
LOCATION:whirlwind golf club
ORGANIZER;CN="Chandler Compadres":MAILTO:events@chandlercompadres.org
END:VEVENT
END:VCALENDAR